BEGIN:VCALENDAR
VERSION:2.0
PRODID:-//Rapaki Marae - ECPv6.15.20//NONSGML v1.0//EN
CALSCALE:GREGORIAN
METHOD:PUBLISH
X-WR-CALNAME:Rapaki Marae
X-ORIGINAL-URL:https://rapaki.iwi.nz
X-WR-CALDESC:Events for Rapaki Marae
REFRESH-INTERVAL;VALUE=DURATION:PT1H
X-Robots-Tag:noindex
X-PUBLISHED-TTL:PT1H
BEGIN:VTIMEZONE
TZID:UTC
BEGIN:STANDARD
TZOFFSETFROM:+0000
TZOFFSETTO:+0000
TZNAME:UTC
DTSTART:20230101T000000
END:STANDARD
END:VTIMEZONE
BEGIN:VEVENT
DTSTART;VALUE=DATE:20241110
DTEND;VALUE=DATE:20241111
DTSTAMP:20260422T154136
CREATED:20241109T210000Z
LAST-MODIFIED:20240611T135020Z
UID:491-1731196800-1731283199@rapaki.iwi.nz
SUMMARY:Te Hapū o Ngāti Wheke\, Rāpaki Reserves & TPOT AGM's
DESCRIPTION:Rāpaki AGMs 10am Sunday 10 November 2024 at Rāpaki Marae\, Te Rāpaki o Te Rakiwhakaputa and on zoom (agenda including zoom link attached to email pānui – subscribe at rapaki@ngaitahu.iwi.nz) \nPapers will be emailed out before the AGMs and available at the AGMs. \nFollowing the AGMs there will be some presentations and a whānau kai.
URL:https://rapaki.iwi.nz/event/te-hapu-o-ngati-wheke-rapaki-reserves-tpot-agms/
LOCATION:Rāpaki Marae\, 37 Rapaki Drive\, Christchurch\, Canterbury\, 8971\, New Zealand
ORGANIZER;CN="Te Hap%C5%AB o Ng%C4%81ti Wheke Inc.":MAILTO:rapaki@ngaitahu.iwi.nz
END:VEVENT
BEGIN:VEVENT
DTSTART;TZID=UTC:20241110T100000
DTEND;TZID=UTC:20241110T120000
DTSTAMP:20260422T154137
CREATED:20240611T140529Z
LAST-MODIFIED:20240611T140529Z
UID:2262-1731232800-1731240000@rapaki.iwi.nz
SUMMARY:Annual General Meeting - THoNW\, Te Poho o Tamatea\, and Rāpaki Reserve Trustees
DESCRIPTION:Rāpaki AGMs 10am Sunday 10 November 2024 at Rāpaki Marae\, Te Rāpaki o Te Rakiwhakaputa and on zoom (agenda including zoom link attached to email pānui – subscribe at rapaki@ngaitahu.iwi.nz) \nPapers will be emailed out before the AGMs and available at the AGMs. \nFollowing the AGMs there will be some presentations and a whānau kai.
URL:https://rapaki.iwi.nz/event/annual-general-meeting-thonw-te-poho-o-tamatea-and-rapaki-reserve-trustees/
LOCATION:Rāpaki Marae\, 37 Rapaki Drive\, Christchurch\, Canterbury\, 8971\, New Zealand
ORGANIZER;CN="Te Hap%C5%AB o Ng%C4%81ti Wheke Inc.":MAILTO:rapaki@ngaitahu.iwi.nz
END:VEVENT
END:VCALENDAR